BEGIN:VCALENDAR
VERSION:2.0
PRODID:-//ChamberMaster//Event Calendar 2.0//EN
METHOD:PUBLISH
X-PUBLISHED-TTL:P1H
REFRESH-INTERVAL:P1H
CALSCALE:GREGORIAN
BEGIN:VTIMEZONE
TZID:America/Vancouver
BEGIN:DAYLIGHT
RRULE:FREQ=YEARLY;BYMONTH=3;BYDAY=2SU
DTSTART:20070101T000000
TZOFFSETFROM:-0800
TZOFFSETTO:-0700
TZNAME:Pacific Daylight Time
END:DAYLIGHT
BEGIN:STANDARD
RRULE:FREQ=YEARLY;BYMONTH=11;BYDAY=1SU
DTSTART:20070101T000000
TZOFFSETFROM:-0700
TZOFFSETTO:-0800
TZNAME:Pacific Standard Time
END:STANDARD
END:VTIMEZONE
BEGIN:VEVENT
DTSTART;TZID=America/Vancouver:20260507T170000
DTEND;TZID=America/Vancouver:20260507T190000
X-MICROSOFT-CDO-ALLDAYEVENT:FALSE
SUMMARY:WACMB Academic World Quest Dinner
DESCRIPTION:On Thursday\, May 7th the WACMB will honor the Greenfield High School Team who competed at the World Affairs Councils of America AWQ contest on April 27th - 28th\, 2026 in Washington D.C. \nWhere: Hilton Garden Inn - Big Sur Room in Monterey \nTime: 5:00 PM: Registration - 5:30 PM: Dinner & Program \nCost: $45 Guests $55 Non-Members Registrations are due by Thursday\, April 30th\, 2026 \nPlease note: Cancellations after the deadline are non-refundable.\nREGISTER
X-ALT-DESC;FMTTYPE=text/html:<!DOCTYPE html><html><head><title></title></head><body aria-disabled="false"><p>On Thursday\, May 7th the WACMB will honor the Greenfield High School Team who competed at the World Affairs Councils of America AWQ contest on April 27th - 28th\, 2026 in Washington D.C. <br>Where: Hilton Garden Inn - Big Sur Room in Monterey <br>Time: 5:00 PM: Registration - 5:30 PM: Dinner &amp\; Program <br>Cost: $45 Guests $55 Non-Members Registrations are due by Thursday\, April 30th\, 2026 <br>Please note: Cancellations after the deadline are non-refundable.<br><a fr-original-style="" href="https://www.wacmb.org/" style="user-select: auto\;">REGISTER</a></p></body></html>
LOCATION:Monterey CA 93940
UID:e.2912.1450648
SEQUENCE:3
DTSTAMP:20260424T071910Z
URL:https://business.pacificgrove.org/chamber-events/Details/wacmb-academic-world-quest-dinner-1718300?sourceTypeId=Hub
END:VEVENT
END:VCALENDAR
