BEGIN:VCALENDAR
VERSION:2.0
PRODID:-//ChamberMaster//Event Calendar 2.0//EN
METHOD:PUBLISH
X-PUBLISHED-TTL:P1H
REFRESH-INTERVAL:P1H
CALSCALE:GREGORIAN
BEGIN:VTIMEZONE
TZID:America/Vancouver
BEGIN:DAYLIGHT
RRULE:FREQ=YEARLY;BYMONTH=3;BYDAY=2SU
DTSTART:20070101T000000
TZOFFSETFROM:-0800
TZOFFSETTO:-0700
TZNAME:Pacific Daylight Time
END:DAYLIGHT
BEGIN:STANDARD
RRULE:FREQ=YEARLY;BYMONTH=11;BYDAY=1SU
DTSTART:20070101T000000
TZOFFSETFROM:-0700
TZOFFSETTO:-0800
TZNAME:Pacific Standard Time
END:STANDARD
END:VTIMEZONE
BEGIN:VEVENT
DTSTART;TZID=America/Vancouver:20260530T130000
DTEND;TZID=America/Vancouver:20260530T170000
X-MICROSOFT-CDO-ALLDAYEVENT:FALSE
SUMMARY:Third Annual Music for the Animals Fundraiser!
DESCRIPTION:Join BirchBark on Saturday\, May 30th from 1:00   5:00 pm at the Santa Cruz Cider Company! \n\nWe'll enjoy an afternoon of great music\, artisans\, locally sourced and produced beer and cider\, and exciting and giveaways   all in support of BirchBark and the Santa Cruz County Animal Shelter. Bring your pup to visit us at our table\; we'll have a kiddie pool for them to cool off and play in! Adoptable dogs will be in attendance\, so be prepared for tail wags and wiggles! Live music by Michael Gaither & His New Best Friends. Admission is free.
X-ALT-DESC;FMTTYPE=text/html:<!DOCTYPE html><html><head><title></title></head><body aria-disabled="false"><p>Join <a fr-original-style="" href="https://www.birchbarkfoundation.org/birchbark-events-collection/5/30/26/music-for-the-animals" style="user-select: auto\;">BirchBark</a> on Saturday\, May 30th from 1:00 &ndash\; 5:00 pm at the Santa Cruz Cider Company! <br><br>We&#39\;ll enjoy an afternoon of great music\, artisans\, locally sourced and produced beer and cider\, and exciting and giveaways &hellip\; all in support of <a fr-original-style="" href="https://www.birchbarkfoundation.org/birchbark-events-collection/5/30/26/music-for-the-animals" style="user-select: auto\;">BirchBark</a> and the Santa Cruz County Animal Shelter.&nbsp\;</p><p>Bring your pup to visit us at our table\; we&#39\;ll have a kiddie pool for them to cool off and play in! Adoptable dogs will be in attendance\, so be prepared for tail wags and wiggles! Live music by Michael Gaither &amp\; His New Best Friends. Admission is free.</p></body></html>
LOCATION:CA
UID:e.2912.1443629
SEQUENCE:3
DTSTAMP:20260420T044910Z
URL:https://business.pacificgrove.org/chamber-events/Details/third-annual-music-for-the-animals-fundraiser-1709858?sourceTypeId=Hub
END:VEVENT
END:VCALENDAR
