BEGIN:VCALENDAR
VERSION:2.0
PRODID:-//ChamberMaster//Event Calendar 2.0//EN
METHOD:PUBLISH
X-PUBLISHED-TTL:P1H
REFRESH-INTERVAL:P1H
CALSCALE:GREGORIAN
BEGIN:VTIMEZONE
TZID:America/Vancouver
BEGIN:DAYLIGHT
RRULE:FREQ=YEARLY;BYMONTH=3;BYDAY=2SU
DTSTART:20070101T000000
TZOFFSETFROM:-0800
TZOFFSETTO:-0700
TZNAME:Pacific Daylight Time
END:DAYLIGHT
BEGIN:STANDARD
RRULE:FREQ=YEARLY;BYMONTH=11;BYDAY=1SU
DTSTART:20070101T000000
TZOFFSETFROM:-0700
TZOFFSETTO:-0800
TZNAME:Pacific Standard Time
END:STANDARD
END:VTIMEZONE
BEGIN:VEVENT
DTSTART;TZID=America/Vancouver:20260416T100000
DTEND;TZID=America/Vancouver:20260416T120000
X-MICROSOFT-CDO-ALLDAYEVENT:FALSE
SUMMARY:The Poppy Collective presents: "Paint Outdoors" Class
DESCRIPTION:Learn how to paint outdoors with watercolor paints! This class is suitable for all skill levels. Students will meet at Lovers Point Park picnic tables. Material will be provided for watercolor. Line art will be provided of Lovers Point scenes if you just want to work on your painting rather than drawing the scene. Great social and skill building experience. If you are an experienced painter\, there will be blank pieces of watercolor paper\, too! You should be able to go home with a finished work. Class is taught by Diane Grindol\, a local nature artist. Pre-registration is required.
X-ALT-DESC;FMTTYPE=text/html:<!DOCTYPE html><html><head><title></title></head><body aria-disabled="false"><p>Learn how to paint outdoors with watercolor paints! This class is suitable for all skill levels. Students will meet at Lovers Point Park picnic tables. Material will be provided for watercolor. Line art will be provided of Lovers Point scenes if you just want to work on your painting rather than drawing the scene. Great social and skill building experience. If you are an experienced painter\, there will be blank pieces of watercolor paper\, too! You should be able to go home with a finished work. Class is taught by Diane Grindol\, a local nature artist.&nbsp\;</p><p><a fr-original-style="" href="https://www.poppycollectivepg.com/" style="user-select: auto\;">Pre-registration is required</a>.</p></body></html>
LOCATION:17th St. and Oceanview Blvd. Pacific Grove CA 93950
UID:e.2912.1441292
SEQUENCE:3
DTSTAMP:20260420T044925Z
URL:https://business.pacificgrove.org/chamber-events/Details/the-poppy-collective-presents-paint-outdoors-class-1706510?sourceTypeId=Hub
END:VEVENT
END:VCALENDAR
