BEGIN:VCALENDAR
VERSION:2.0
PRODID:-//ChamberMaster//Event Calendar 2.0//EN
METHOD:PUBLISH
X-PUBLISHED-TTL:P1H
REFRESH-INTERVAL:P1H
CALSCALE:GREGORIAN
BEGIN:VTIMEZONE
TZID:America/Vancouver
BEGIN:DAYLIGHT
RRULE:FREQ=YEARLY;BYMONTH=3;BYDAY=2SU
DTSTART:20070101T000000
TZOFFSETFROM:-0800
TZOFFSETTO:-0700
TZNAME:Pacific Daylight Time
END:DAYLIGHT
BEGIN:STANDARD
RRULE:FREQ=YEARLY;BYMONTH=11;BYDAY=1SU
DTSTART:20070101T000000
TZOFFSETFROM:-0700
TZOFFSETTO:-0800
TZNAME:Pacific Standard Time
END:STANDARD
END:VTIMEZONE
BEGIN:VEVENT
DTSTART;TZID=America/Vancouver:20260506T180000
DTEND;TZID=America/Vancouver:20260506T200000
X-MICROSOFT-CDO-ALLDAYEVENT:FALSE
SUMMARY:The Poppy Collective Presents "Intro to Aromatherapy Class"
DESCRIPTION:Join The Poppy Collective for a fun and experiential evening of aromatherapy. You'll learn the properties of a variety of essential oils and how to use them to make lotions\, oils\, body washes\, oils\, misters\, and more. You'll leave with your own custom blend in your choice of lotion\, body wash\, or mister. Taught by herbalist Christy Porter\, owner of The Poppy Collective. Pre-registration required at Home | The Poppy Collective
X-ALT-DESC;FMTTYPE=text/html:<!DOCTYPE html><html><head><title></title></head><body aria-disabled="false"><p>Join The Poppy Collective for a fun and experiential evening of aromatherapy. You&#39\;ll learn the properties of a variety of essential oils and how to use them to make lotions\, oils\, body washes\, oils\, misters\, and more. You&#39\;ll leave with your own custom blend in your choice of lotion\, body wash\, or mister. Taught by herbalist Christy Porter\, owner of The Poppy Collective. Pre-registration required at <a fr-original-style="" href="https://www.poppycollectivepg.com/" style="user-select: auto\;">Home | The Poppy Collective</a>&nbsp\;</p></body></html>
LOCATION:
UID:e.2912.1450586
SEQUENCE:3
DTSTAMP:20260424T071952Z
URL:https://business.pacificgrove.org/chamber-events/Details/the-poppy-collective-presents-intro-to-aromatherapy-class-1718238?sourceTypeId=Hub
END:VEVENT
END:VCALENDAR
