BEGIN:VCALENDAR
VERSION:2.0
PRODID:-//ChamberMaster//Event Calendar 2.0//EN
METHOD:PUBLISH
X-PUBLISHED-TTL:P1H
REFRESH-INTERVAL:P1H
CALSCALE:GREGORIAN
BEGIN:VTIMEZONE
TZID:America/Vancouver
BEGIN:DAYLIGHT
RRULE:FREQ=YEARLY;BYMONTH=3;BYDAY=2SU
DTSTART:20070101T000000
TZOFFSETFROM:-0800
TZOFFSETTO:-0700
TZNAME:Pacific Daylight Time
END:DAYLIGHT
BEGIN:STANDARD
RRULE:FREQ=YEARLY;BYMONTH=11;BYDAY=1SU
DTSTART:20070101T000000
TZOFFSETFROM:-0700
TZOFFSETTO:-0800
TZNAME:Pacific Standard Time
END:STANDARD
END:VTIMEZONE
BEGIN:VEVENT
DTSTART;TZID=America/Vancouver:20260710T180000
DTEND;TZID=America/Vancouver:20260710T210000
X-MICROSOFT-CDO-ALLDAYEVENT:FALSE
SUMMARY:Sunset Music Series at Asilomar
DESCRIPTION:Join us at Asilomar every Friday evening from 6:00 – 9:00 pm for the Sunset Music Series—a summer celebration held outside on the Social Hall deck\, featuring live music\, seasonal small bites\, local craft beer & wine\, and s’mores. \nEvent Details:\nWhere: Social Hall West Deck\, Asilomar Conference Grounds\, 800 Asilomar Ave. \nFree & open to the public \nFree parking available on property or neighboring streets \nFood & drinks available for purchase \nS’more kits for sale \nBring your own chair or use one of ours Grab your friends\, get cozy\, and enjoy the perfect summer evenings by the sea! \nFor more information\, call 831-372-8016 or www.visitasilomar.com
X-ALT-DESC;FMTTYPE=text/html:Join us at Asilomar every Friday evening from 6:00 – 9:00 pm for the Sunset Music Series—a summer celebration held outside on the Social Hall deck\, featuring live music\, seasonal small bites\, local craft beer & wine\, and s’mores. \nEvent Details:\nWhere: Social Hall West Deck\, Asilomar Conference Grounds\, 800 Asilomar Ave. \nFree & open to the public \nFree parking available on property or neighboring streets \nFood & drinks available for purchase \nS’more kits for sale \nBring your own chair or use one of ours Grab your friends\, get cozy\, and enjoy the perfect summer evenings by the sea! \nFor more information\, call 831-372-8016 or www.visitasilomar.com
LOCATION:800 Asilomar Boulevard Social Hall West Deck Pacific Grove CA 93950
UID:e.2912.1443562
SEQUENCE:3
DTSTAMP:20260420T044909Z
URL:https://business.pacificgrove.org/chamber-events/Details/sunset-music-series-at-asilomar-1709795?sourceTypeId=Hub
END:VEVENT
END:VCALENDAR
