BEGIN:VCALENDAR
VERSION:2.0
PRODID:-//ChamberMaster//Event Calendar 2.0//EN
METHOD:PUBLISH
X-PUBLISHED-TTL:P1H
REFRESH-INTERVAL:P1H
CALSCALE:GREGORIAN
BEGIN:VTIMEZONE
TZID:America/Vancouver
BEGIN:DAYLIGHT
RRULE:FREQ=YEARLY;BYMONTH=3;BYDAY=2SU
DTSTART:20070101T000000
TZOFFSETFROM:-0800
TZOFFSETTO:-0700
TZNAME:Pacific Daylight Time
END:DAYLIGHT
BEGIN:STANDARD
RRULE:FREQ=YEARLY;BYMONTH=11;BYDAY=1SU
DTSTART:20070101T000000
TZOFFSETFROM:-0700
TZOFFSETTO:-0800
TZNAME:Pacific Standard Time
END:STANDARD
END:VTIMEZONE
BEGIN:VEVENT
DTSTART;TZID=America/Vancouver:20260517T110000
DTEND;TZID=America/Vancouver:20260517T120000
X-MICROSOFT-CDO-ALLDAYEVENT:FALSE
SUMMARY:Sunday Worship at the Christian Church of Pacific Grove
DESCRIPTION:The Christian Church of Pacific Grove is a caring\, open and affirming congregation that will warmly welcome you as you are. We gather for worship on Sundays at 11:00 a.m. at 442 Central Avenue. Our services feature a scripture-based message\, singing and weekly Communion\, with everyone welcome at the table. After worship we enjoy refreshments and time to visit and chat. Folks of all ages will fit right in. Nursery care is available during worship.
X-ALT-DESC;FMTTYPE=text/html:<!DOCTYPE html><html><head><title></title></head><body aria-disabled="false"><p><a fr-original-style="" href="https://pacificgrovechurch.org/" style="user-select: auto\;">The Christian Church of Pacific Grove</a> is a caring\, open and affirming congregation that will warmly welcome you as you are. We gather for worship on Sundays at 11:00 a.m. at 442 Central Avenue. Our services feature a scripture-based message\, singing and weekly Communion\, with everyone welcome at the table. After worship we enjoy refreshments and time to visit and chat. Folks of all ages will fit right in. Nursery care is available during worship.</p></body></html>
LOCATION:442 Central Avenue Pacific Grove CA 93950
UID:e.2912.1444954
SEQUENCE:3
DTSTAMP:20260420T045434Z
URL:https://business.pacificgrove.org/chamber-events/Details/sunday-worship-at-the-christian-church-of-pacific-grove-1711446?sourceTypeId=Hub
END:VEVENT
END:VCALENDAR
