BEGIN:VCALENDAR
VERSION:2.0
PRODID:-//ChamberMaster//Event Calendar 2.0//EN
METHOD:PUBLISH
X-PUBLISHED-TTL:P1H
REFRESH-INTERVAL:P1H
CALSCALE:GREGORIAN
BEGIN:VTIMEZONE
TZID:America/Vancouver
BEGIN:DAYLIGHT
RRULE:FREQ=YEARLY;BYMONTH=3;BYDAY=2SU
DTSTART:20070101T000000
TZOFFSETFROM:-0800
TZOFFSETTO:-0700
TZNAME:Pacific Daylight Time
END:DAYLIGHT
BEGIN:STANDARD
RRULE:FREQ=YEARLY;BYMONTH=11;BYDAY=1SU
DTSTART:20070101T000000
TZOFFSETFROM:-0700
TZOFFSETTO:-0800
TZNAME:Pacific Standard Time
END:STANDARD
END:VTIMEZONE
BEGIN:VEVENT
DTSTART;TZID=America/Vancouver:20260614T110000
DTEND;TZID=America/Vancouver:20260614T130000
X-MICROSOFT-CDO-ALLDAYEVENT:FALSE
SUMMARY:Sunday Brunch & Music at The PG Meetinghouse
DESCRIPTION:Join us for Brunch on Sunday between 11:00 am - 1:00 pm for some great coffee\, tea\, chai\, and baked goods while enjoying some live music. For more information: PGMH
X-ALT-DESC;FMTTYPE=text/html:<!DOCTYPE html><html><head><title></title></head><body aria-disabled="false"><p>Join us for Brunch on Sunday between 11:00 am - 1:00 pm for some great coffee\, tea\, chai\, and baked goods while enjoying some live music. For more information: <a fr-original-style="" href="https://www.pgmeetinghouse.com/" style="user-select: auto\;">PGMH</a></p></body></html>
LOCATION:599 Lighthouse Ave. Pacific Grove CA 93950
UID:e.2912.1443764
SEQUENCE:3
DTSTAMP:20260420T045249Z
URL:https://business.pacificgrove.org/chamber-events/Details/sunday-brunch-music-at-the-pg-meetinghouse-1710011?sourceTypeId=Hub
END:VEVENT
END:VCALENDAR
