BEGIN:VCALENDAR
VERSION:2.0
PRODID:-//ChamberMaster//Event Calendar 2.0//EN
METHOD:PUBLISH
X-PUBLISHED-TTL:P1H
REFRESH-INTERVAL:P1H
CALSCALE:GREGORIAN
BEGIN:VTIMEZONE
TZID:America/Vancouver
BEGIN:DAYLIGHT
RRULE:FREQ=YEARLY;BYMONTH=3;BYDAY=2SU
DTSTART:20070101T000000
TZOFFSETFROM:-0800
TZOFFSETTO:-0700
TZNAME:Pacific Daylight Time
END:DAYLIGHT
BEGIN:STANDARD
RRULE:FREQ=YEARLY;BYMONTH=11;BYDAY=1SU
DTSTART:20070101T000000
TZOFFSETFROM:-0700
TZOFFSETTO:-0800
TZNAME:Pacific Standard Time
END:STANDARD
END:VTIMEZONE
BEGIN:VEVENT
DTSTART;TZID=America/Vancouver:20260610T180000
DTEND;TZID=America/Vancouver:20260610T200000
X-MICROSOFT-CDO-ALLDAYEVENT:FALSE
SUMMARY:Summerfest 26 Concert I: Kismet At Asilomar
DESCRIPTION:Jun 10\, at 06:00 pm at Asilomar Conference Grounds   Seascape Room \nAs temperamental and ethereal as the sea itself\, experience Schubert's monumental String Quintet (in C) in a new light. Is it a hypothetical force? A matter of fate? An awareness of an approaching end that sparks the finest work of an artist's life? \nJoin Tien-Hsin Cindy Wu and the musicians of Summerfest to find out. Seascape's stone columns\, floor-to-ceiling windows\, and breathtaking views of the Pacific Ocean provide the ideal foil for a musical exploration of Kismet by the sea. \nThe afternoon's program is highlighted by Schubert's monumental String Quintet (in C)\, one of his last compositions\, as temperamental and ethereal as the sea itself. Greet the performers at a post-concert reception. \nhttps://skmozart.com/summerfest/2026/bios visitasilomar
X-ALT-DESC;FMTTYPE=text/html:<!DOCTYPE html><html><head><title></title></head><body aria-disabled="false"><p>Jun 10\, at 06:00 pm at Asilomar Conference Grounds &ndash\; Seascape Room <br>As temperamental and ethereal as the sea itself\, experience Schubert&rsquo\;s monumental String Quintet (in C) in a new light. Is it a hypothetical force? A matter of fate? An awareness of an approaching end that sparks the finest work of an artist&rsquo\;s life? <br>Join Tien-Hsin Cindy Wu and the musicians of Summerfest to find out. Seascape&rsquo\;s stone columns\, floor-to-ceiling windows\, and breathtaking views of the Pacific Ocean provide the ideal foil for a musical exploration of Kismet by the sea. <br>The afternoon&rsquo\;s program is highlighted by Schubert&rsquo\;s monumental String Quintet (in C)\, one of his last compositions\, as temperamental and ethereal as the sea itself. Greet the performers at a post-concert reception. <br><a fr-original-style="" href="https://skmozart.com/summerfest/2026/bios" style="user-select: auto\;">https://skmozart.com/summerfest/2026/bios</a> <a fr-original-style="" href="https://www.visitasilomar.com/things-to-do/upcoming-events/" style="user-select: auto\;">visitasilomar</a></p></body></html>
LOCATION:800 Asilomar Boulevard Pacific Grove CA 93950
UID:e.2912.1441040
SEQUENCE:3
DTSTAMP:20260420T045233Z
URL:https://business.pacificgrove.org/chamber-events/Details/summerfest-26-concert-i-kismet-at-asilomar-1706242?sourceTypeId=Hub
END:VEVENT
END:VCALENDAR
