BEGIN:VCALENDAR
VERSION:2.0
PRODID:-//ChamberMaster//Event Calendar 2.0//EN
METHOD:PUBLISH
X-PUBLISHED-TTL:P1H
REFRESH-INTERVAL:P1H
CALSCALE:GREGORIAN
BEGIN:VTIMEZONE
TZID:America/Vancouver
BEGIN:DAYLIGHT
RRULE:FREQ=YEARLY;BYMONTH=3;BYDAY=2SU
DTSTART:20070101T000000
TZOFFSETFROM:-0800
TZOFFSETTO:-0700
TZNAME:Pacific Daylight Time
END:DAYLIGHT
BEGIN:STANDARD
RRULE:FREQ=YEARLY;BYMONTH=11;BYDAY=1SU
DTSTART:20070101T000000
TZOFFSETFROM:-0700
TZOFFSETTO:-0800
TZNAME:Pacific Standard Time
END:STANDARD
END:VTIMEZONE
BEGIN:VEVENT
DTSTART;TZID=America/Vancouver:20260425T090000
DTEND;TZID=America/Vancouver:20260425T130000
X-MICROSOFT-CDO-ALLDAYEVENT:FALSE
SUMMARY:"Pooch Plunge" at the Lovers Point Children's Pool
DESCRIPTION:Pooch Plunge at the Lovers Point Children's Pool on Saturday\, April 25th from 9:00 am   1:00 pm. \nPG residents pay $5\, all others pay $7 - must pre-register\, no walk-ups \nOne ticket = one dog only\, please purchase multiple tickets for additional doggos \nDogs must be accompanied by an adult\, 18+ years old \nSmall dogs only at 9:00 AM slot \nVisit AFRP's booth and learn more about how we hundreds of dogs & cats each year! \nGo to City of PG Recreation Dept webpage\, click Register Online \nhttps://secure.rec1.com/CA/pacific-grove-ca/catalog
X-ALT-DESC;FMTTYPE=text/html:<!DOCTYPE html><html><head><title></title></head><body aria-disabled="false"><p>Pooch Plunge at the Lovers Point Children&#39\;s Pool on Saturday\, April 25th from 9:00 am &ndash\; 1:00 pm. <br>PG residents pay $5\, all others pay $7 - must pre-register\, no walk-ups <br>One ticket = one dog only\, please purchase multiple tickets for additional doggos <br>Dogs must be accompanied by an adult\, 18+ years old <br>Small dogs only at 9:00 AM slot <br>Visit <a fr-original-style="" href="https://events.humanitix.com/pacific-grove-pooch-plunge-at-the-lover-s-point-children-s-pool" style="user-select: auto\;">AFRP&#39\;s</a> booth and learn more about how we hundreds of dogs &amp\; cats each year! <br>Go to City of PG Recreation Dept webpage\, click Register Online <br><a fr-original-style="" href="https://secure.rec1.com/CA/pacific-grove-ca/catalog" style="user-select: auto\;">https://secure.rec1.com/CA/pacific-grove-ca/catalog</a></p></body></html>
LOCATION:Lovers Point Pacific Grove CA 93950
UID:e.2912.1443678
SEQUENCE:3
DTSTAMP:20260420T045141Z
URL:https://business.pacificgrove.org/chamber-events/Details/pooch-plunge-at-the-lovers-point-children-s-pool-1709907?sourceTypeId=Hub
END:VEVENT
END:VCALENDAR
