BEGIN:VCALENDAR
VERSION:2.0
PRODID:-//ChamberMaster//Event Calendar 2.0//EN
METHOD:PUBLISH
X-PUBLISHED-TTL:P1H
REFRESH-INTERVAL:P1H
CALSCALE:GREGORIAN
BEGIN:VTIMEZONE
TZID:America/Vancouver
BEGIN:DAYLIGHT
RRULE:FREQ=YEARLY;BYMONTH=3;BYDAY=2SU
DTSTART:20070101T000000
TZOFFSETFROM:-0800
TZOFFSETTO:-0700
TZNAME:Pacific Daylight Time
END:DAYLIGHT
BEGIN:STANDARD
RRULE:FREQ=YEARLY;BYMONTH=11;BYDAY=1SU
DTSTART:20070101T000000
TZOFFSETFROM:-0700
TZOFFSETTO:-0800
TZNAME:Pacific Standard Time
END:STANDARD
END:VTIMEZONE
BEGIN:VEVENT
DTSTART;TZID=America/Vancouver:20260424T180000
DTEND;TZID=America/Vancouver:20260424T200000
X-MICROSOFT-CDO-ALLDAYEVENT:FALSE
SUMMARY:Murder Mystery at the Lighthouse Cinemas
DESCRIPTION:On April 24th the Lighthouse Cinema turns into a live murder mystery experience. A private screening. A room full of suspects. And one killer. This isn't just a show -- you're part of the story. Doors open at 6:00 PM. General Admission: $45 - VIP Experience: $75 (priority roles + premium experience)Purchase Tickets
X-ALT-DESC;FMTTYPE=text/html:<!DOCTYPE html><html><head><title></title></head><body aria-disabled="false"><p>On April 24th the Lighthouse Cinema turns into a live murder mystery experience. A private screening. A room full of suspects. And one killer. This isn&#39\;t just a show -- you&#39\;re part of the story. Doors open at 6:00 PM. General Admission: $45 - VIP Experience: $75 (priority roles + premium experience)</p><p><a fr-original-style="" href="https://checkout.square.site/merchant/MLFFKYFB3WE49/checkout/A5TPIKEDTEH4NVI4A64BFYGA" style="user-select: auto\;">Purchase Tickets</a></p></body></html>
LOCATION:525 Lighthouse Avenue Pacific Grove CA 93950
UID:e.2912.1444039
SEQUENCE:3
DTSTAMP:20260420T045011Z
URL:https://business.pacificgrove.org/chamber-events/Details/murder-mystery-at-the-lighthouse-cinemas-1710318?sourceTypeId=Hub
END:VEVENT
END:VCALENDAR
