BEGIN:VCALENDAR
VERSION:2.0
PRODID:-//ChamberMaster//Event Calendar 2.0//EN
METHOD:PUBLISH
X-PUBLISHED-TTL:P1H
REFRESH-INTERVAL:P1H
CALSCALE:GREGORIAN
BEGIN:VTIMEZONE
TZID:America/Vancouver
BEGIN:DAYLIGHT
RRULE:FREQ=YEARLY;BYMONTH=3;BYDAY=2SU
DTSTART:20070101T000000
TZOFFSETFROM:-0800
TZOFFSETTO:-0700
TZNAME:Pacific Daylight Time
END:DAYLIGHT
BEGIN:STANDARD
RRULE:FREQ=YEARLY;BYMONTH=11;BYDAY=1SU
DTSTART:20070101T000000
TZOFFSETFROM:-0700
TZOFFSETTO:-0800
TZNAME:Pacific Standard Time
END:STANDARD
END:VTIMEZONE
BEGIN:VEVENT
DTSTART;TZID=America/Vancouver:20260517T160000
DTEND;TZID=America/Vancouver:20260517T190000
X-MICROSOFT-CDO-ALLDAYEVENT:FALSE
SUMMARY:Meals on Wheels presents: 2006 Women Who Care Event
DESCRIPTION:Join the Meals on Wheels of the Monterey Peninsula on Sunday\, May 17th from 4:00 - 7:00 pm for an unforgettable evening as we honor a remarkable woman for her dedication and impact on our community. This year the MOWMP proudly celebrate Heidi Friery-Keller. For more information and to purchase tickets: MOWMP
X-ALT-DESC;FMTTYPE=text/html:<!DOCTYPE html><html><head><title></title></head><body aria-disabled="false"><p>Join the Meals on Wheels of the Monterey Peninsula on Sunday\, May 17th from 4:00 - 7:00 pm for an unforgettable evening as we honor a remarkable woman for her dedication and impact on our community. This year the MOWMP proudly celebrate Heidi Friery-Keller.&nbsp\;</p><p>For more information and to purchase tickets: <a fr-original-style="" href="http://www.mowmp.org/wwc" style="user-select: auto\;">MOWMP</a></p></body></html>
LOCATION:Pacific Grove CA 93950
UID:e.2912.1444045
SEQUENCE:3
DTSTAMP:20260420T045140Z
URL:https://business.pacificgrove.org/chamber-events/Details/meals-on-wheels-presents-2006-women-who-care-event-1710330?sourceTypeId=Hub
END:VEVENT
END:VCALENDAR
