BEGIN:VCALENDAR
VERSION:2.0
PRODID:-//ChamberMaster//Event Calendar 2.0//EN
METHOD:PUBLISH
X-PUBLISHED-TTL:P1H
REFRESH-INTERVAL:P1H
CALSCALE:GREGORIAN
BEGIN:VTIMEZONE
TZID:America/Vancouver
BEGIN:DAYLIGHT
RRULE:FREQ=YEARLY;BYMONTH=3;BYDAY=2SU
DTSTART:20070101T000000
TZOFFSETFROM:-0800
TZOFFSETTO:-0700
TZNAME:Pacific Daylight Time
END:DAYLIGHT
BEGIN:STANDARD
RRULE:FREQ=YEARLY;BYMONTH=11;BYDAY=1SU
DTSTART:20070101T000000
TZOFFSETFROM:-0700
TZOFFSETTO:-0800
TZNAME:Pacific Standard Time
END:STANDARD
END:VTIMEZONE
BEGIN:VEVENT
DTSTART;TZID=America/Vancouver:20260426T140000
DTEND;TZID=America/Vancouver:20260426T150000
X-MICROSOFT-CDO-ALLDAYEVENT:FALSE
SUMMARY:Guided Inspiration Points Walk
DESCRIPTION:On Sunday\, April 26th at 2:00 pm take the guided Inspiration Points Walk and be inspired by trees\, streams\, oceans\, rocks\, and a labyrinth in a one-mile round trip walk. We start and end at the labyrinth at St. Mary's. Free. Sponsored by the First United Methodist Church of Pacific Grove.
X-ALT-DESC;FMTTYPE=text/html:<!DOCTYPE html><html><head><title></title></head><body aria-disabled="false"><p>On Sunday\, April 26th at 2:00 pm take the guided Inspiration Points Walk and be inspired by trees\, streams\, oceans\, rocks\, and a labyrinth in a one-mile round trip walk. We start and end at the labyrinth at St. Mary&#39\;s. Free. Sponsored by the <a fr-original-style="" href="https://butterflychurchpg.wixsite.com/website" style="user-select: auto\;">First United Methodist Church of Pacific Grove</a>.&nbsp\;</p><p><br></p><p><br></p></body></html>
LOCATION:146 12th St. Pacific Grove CA 93950
UID:e.2912.1447447
SEQUENCE:3
DTSTAMP:20260424T071911Z
URL:https://business.pacificgrove.org/chamber-events/Details/guided-inspiration-points-walk-1714389?sourceTypeId=Hub
END:VEVENT
END:VCALENDAR
