BEGIN:VCALENDAR
VERSION:2.0
PRODID:-//ChamberMaster//Event Calendar 2.0//EN
METHOD:PUBLISH
X-PUBLISHED-TTL:P1H
REFRESH-INTERVAL:P1H
CALSCALE:GREGORIAN
BEGIN:VTIMEZONE
TZID:America/Vancouver
BEGIN:DAYLIGHT
RRULE:FREQ=YEARLY;BYMONTH=3;BYDAY=2SU
DTSTART:20070101T000000
TZOFFSETFROM:-0800
TZOFFSETTO:-0700
TZNAME:Pacific Daylight Time
END:DAYLIGHT
BEGIN:STANDARD
RRULE:FREQ=YEARLY;BYMONTH=11;BYDAY=1SU
DTSTART:20070101T000000
TZOFFSETFROM:-0700
TZOFFSETTO:-0800
TZNAME:Pacific Standard Time
END:STANDARD
END:VTIMEZONE
BEGIN:VEVENT
DTSTART;TZID=America/Vancouver:20260417T103000
DTEND;TZID=America/Vancouver:20260417T163000
X-MICROSOFT-CDO-ALLDAYEVENT:FALSE
SUMMARY:Friday Stitch at Back Porch Fabrics
DESCRIPTION:On Friday\, April 17th between 10:30 am - 4:30 pm\,  Bring your mending\, or a sewing or quilting project into Back Porch Fabrics and enjoy a relaxing day surrounded by color. Stay for an hour   or all day. Need help? Claudia will be there to answer all of your questions.
X-ALT-DESC;FMTTYPE=text/html:<!DOCTYPE html><html><head><title></title></head><body aria-disabled="false"><p>On Friday\, April 17th between 10:30 am - 4:30 pm\, &nbsp\;Bring your mending\, or a sewing or quilting project into <a fr-original-style="" href="https://www.backporchfabrics.com/events" style="user-select: auto\;">Back Porch Fabrics</a> and enjoy a relaxing day surrounded by color. Stay for an hour &hellip\; or all day. Need help? Claudia will be there to answer all of your questions.</p></body></html>
LOCATION:218 Grand Avenue Pacific Grove CA 93950
UID:e.2912.1445050
SEQUENCE:3
DTSTAMP:20260420T044808Z
URL:https://business.pacificgrove.org/chamber-events/Details/friday-stitch-at-back-porch-fabrics-1711533?sourceTypeId=Hub
END:VEVENT
END:VCALENDAR
