BEGIN:VCALENDAR
VERSION:2.0
PRODID:-//ChamberMaster//Event Calendar 2.0//EN
METHOD:PUBLISH
X-PUBLISHED-TTL:P1H
REFRESH-INTERVAL:P1H
CALSCALE:GREGORIAN
BEGIN:VTIMEZONE
TZID:America/Vancouver
BEGIN:DAYLIGHT
RRULE:FREQ=YEARLY;BYMONTH=3;BYDAY=2SU
DTSTART:20070101T000000
TZOFFSETFROM:-0800
TZOFFSETTO:-0700
TZNAME:Pacific Daylight Time
END:DAYLIGHT
BEGIN:STANDARD
RRULE:FREQ=YEARLY;BYMONTH=11;BYDAY=1SU
DTSTART:20070101T000000
TZOFFSETFROM:-0700
TZOFFSETTO:-0800
TZNAME:Pacific Standard Time
END:STANDARD
END:VTIMEZONE
BEGIN:VEVENT
DTSTART;TZID=America/Vancouver:20260501T180000
DTEND;TZID=America/Vancouver:20260501T210000
X-MICROSOFT-CDO-ALLDAYEVENT:FALSE
SUMMARY:First Friday with Hovering Breadcat to Kick off Good Old Days!
DESCRIPTION:It's First Friday\, May 1st at Hops & Fog and we will enjoy an evening of jamming bluegrass and Americana music with the Hovering Breadcat crew from 6:00   9:00 pm. Let's get this fun filled weekend started off right!
X-ALT-DESC;FMTTYPE=text/html:<!DOCTYPE html><html><head><title></title></head><body aria-disabled="false"><p>It&#39\;s First Friday\, May 1st at <a fr-original-style="" href="https://www.hopsandfog.beer/event-list" style="user-select: auto\;">Hops &amp\; Fog</a> and we will enjoy an evening of jamming bluegrass and Americana music with the Hovering Breadcat crew from 6:00 &ndash\; 9:00 pm. Let&#39\;s get this fun filled weekend started off right!</p></body></html>
LOCATION:511 Lighthouse Avenue Pacific Grove CA 93950
UID:e.2912.1444930
SEQUENCE:3
DTSTAMP:20260420T044833Z
URL:https://business.pacificgrove.org/chamber-events/Details/first-friday-with-hovering-breadcat-to-kick-off-good-old-days-1711350?sourceTypeId=Hub
END:VEVENT
END:VCALENDAR
