BEGIN:VCALENDAR
VERSION:2.0
PRODID:-//ChamberMaster//Event Calendar 2.0//EN
METHOD:PUBLISH
X-PUBLISHED-TTL:P1H
REFRESH-INTERVAL:P1H
CALSCALE:GREGORIAN
BEGIN:VTIMEZONE
TZID:America/Vancouver
BEGIN:DAYLIGHT
RRULE:FREQ=YEARLY;BYMONTH=3;BYDAY=2SU
DTSTART:20070101T000000
TZOFFSETFROM:-0800
TZOFFSETTO:-0700
TZNAME:Pacific Daylight Time
END:DAYLIGHT
BEGIN:STANDARD
RRULE:FREQ=YEARLY;BYMONTH=11;BYDAY=1SU
DTSTART:20070101T000000
TZOFFSETFROM:-0700
TZOFFSETTO:-0800
TZNAME:Pacific Standard Time
END:STANDARD
END:VTIMEZONE
BEGIN:VEVENT
DTSTART;TZID=America/Vancouver:20260425T190000
DTEND;TZID=America/Vancouver:20260425T220000
X-MICROSOFT-CDO-ALLDAYEVENT:FALSE
SUMMARY:Dance Night at The PG Meetinghouse
DESCRIPTION:Dance Night at The PG Meetinghouse\, Saturday night from 7:00   10:00 pm\, featuring DJ J.Gill & Chris Terry. For more information: PGMH
X-ALT-DESC;FMTTYPE=text/html:<!DOCTYPE html><html><head><title></title></head><body aria-disabled="false"><p>Dance Night at The PG Meetinghouse\, Saturday night from 7:00 &ndash\; 10:00 pm\, featuring DJ J.Gill &amp\; Chris Terry.&nbsp\;</p><p>For more information: <a fr-original-style="" href="https://www.pgmeetinghouse.com/" style="user-select: auto\;">PGMH</a></p></body></html>
LOCATION:599 Lighthouse Ave. Pacific Grove CA 93950
UID:e.2912.1377533
SEQUENCE:3
DTSTAMP:20260424T071952Z
URL:https://business.pacificgrove.org/chamber-events/Details/dance-night-at-the-pg-meetinghouse-1626374?sourceTypeId=Hub
END:VEVENT
END:VCALENDAR
