BEGIN:VCALENDAR
VERSION:2.0
PRODID:-//ChamberMaster//Event Calendar 2.0//EN
METHOD:PUBLISH
X-PUBLISHED-TTL:P1H
REFRESH-INTERVAL:P1H
CALSCALE:GREGORIAN
BEGIN:VTIMEZONE
TZID:America/Vancouver
BEGIN:DAYLIGHT
RRULE:FREQ=YEARLY;BYMONTH=3;BYDAY=2SU
DTSTART:20070101T000000
TZOFFSETFROM:-0800
TZOFFSETTO:-0700
TZNAME:Pacific Daylight Time
END:DAYLIGHT
BEGIN:STANDARD
RRULE:FREQ=YEARLY;BYMONTH=11;BYDAY=1SU
DTSTART:20070101T000000
TZOFFSETFROM:-0700
TZOFFSETTO:-0800
TZNAME:Pacific Standard Time
END:STANDARD
END:VTIMEZONE
BEGIN:VEVENT
DTSTART;TZID=America/Vancouver:20260501T180000
DTEND;TZID=America/Vancouver:20260501T200000
X-MICROSOFT-CDO-ALLDAYEVENT:FALSE
SUMMARY:CSUMB’s Illustrating Nature Opening at the PG Museum of Natural History
DESCRIPTION:CSUMB's Illustrating Nature Opening at the PG Museum of Natural History Everyone's favorite exhibit returns on May 1! Join the Pacific Grove Museum of Natural History on May 1st from 6:00   8:00 pm for a special night celebrating science illustration and the incredible artists who create it with the graduating class of CSUMB's Science Illustration program! Enjoy the art\, meet the artists\, and come back throughout the month for fun events combining science and art including: \nAn artist market with the featured artists on 5/22 \nArtist demos on 5/16 & 30 \nArt workshops with wonderful program alumni \nDetails Cost: Free \nTime: 6-8pm \nDoors Open: 6pm \nRegistration: Not required \nLocation: PG Museum of Natural History - Full museum\, art in the Bird Gallery and upstairs \nAge Range: All ages\, children under 15 must be accompanied at all times by an adult \nWhat to Expect: A fantastic night with beautiful art \nAccessibility: The Museum is an accessible space with elevators to reach the art on the second floors.
X-ALT-DESC;FMTTYPE=text/html:<!DOCTYPE html><html><head><title></title></head><body aria-disabled="false"><p>CSUMB&rsquo\;s Illustrating Nature Opening at the <a fr-original-style="" href="https://www.pgmuseum.org/upcoming-events/illustrating-nature-opening-1" style="user-select: auto\;">PG Museum of Natural History</a> Everyone&rsquo\;s favorite exhibit returns on May 1!&nbsp\;</p><p>Join the <a fr-original-style="" href="https://www.pgmuseum.org/upcoming-events/illustrating-nature-opening-1" style="user-select: auto\;">Pacific Grove Museum of Natural History</a> on May 1st from 6:00 &ndash\; 8:00 pm for a special night celebrating science illustration and the incredible artists who create it with the graduating class of CSUMB&rsquo\;s Science Illustration program!&nbsp\;</p><p>Enjoy the art\, meet the artists\, and come back throughout the month for fun events combining science and art including: <br>An artist market with the featured artists on 5/22 <br>Artist demos on 5/16 &amp\; 30 <br>Art workshops with wonderful program alumni <br>Details Cost: Free <br>Time: 6-8pm <br>Doors Open: 6pm <br>Registration: Not required <br>Location: PG Museum of Natural History - Full museum\, art in the Bird Gallery and upstairs <br>Age Range: All ages\, children under 15 must be accompanied at all times by an adult <br>What to Expect: A fantastic night with beautiful art <br>Accessibility: The Museum is an accessible space with elevators to reach the art on the second floors.</p></body></html>
LOCATION:165 Forest Ave. Pacific Grove CA 93950
UID:e.2912.1447302
SEQUENCE:3
DTSTAMP:20260424T072002Z
URL:https://business.pacificgrove.org/chamber-events/Details/csumb-s-illustrating-nature-opening-at-the-pg-museum-of-natural-history-1714199?sourceTypeId=Hub
END:VEVENT
END:VCALENDAR
