BEGIN:VCALENDAR
VERSION:2.0
PRODID:-//ChamberMaster//Event Calendar 2.0//EN
METHOD:PUBLISH
X-PUBLISHED-TTL:P1H
REFRESH-INTERVAL:P1H
CALSCALE:GREGORIAN
BEGIN:VTIMEZONE
TZID:America/Vancouver
BEGIN:DAYLIGHT
RRULE:FREQ=YEARLY;BYMONTH=3;BYDAY=2SU
DTSTART:20070101T000000
TZOFFSETFROM:-0800
TZOFFSETTO:-0700
TZNAME:Pacific Daylight Time
END:DAYLIGHT
BEGIN:STANDARD
RRULE:FREQ=YEARLY;BYMONTH=11;BYDAY=1SU
DTSTART:20070101T000000
TZOFFSETFROM:-0700
TZOFFSETTO:-0800
TZNAME:Pacific Standard Time
END:STANDARD
END:VTIMEZONE
BEGIN:VEVENT
DTSTART;TZID=America/Vancouver:20260512T110000
DTEND;TZID=America/Vancouver:20260512T130000
X-MICROSOFT-CDO-ALLDAYEVENT:FALSE
SUMMARY:Central Coast VNA & Hospice presents: Care for the Caregiver Wellness Summit & Speaker Series
DESCRIPTION:On May 12 from 11:00 am - 1:00 pm\, learn how to care for yourself while continuing to care for others. As part of our 75th Anniversary\, Central Coast VNA & Hospice invites you to a Free meaningful community event designed to support and connect our community of caregivers. ﻿This is one of three special events VNA is hosting as part of the milestone celebration. Enjoy complimentary food and beverages\, Raffle prizes and explore resource tables. Learn more\, RSVP at www.ccvna.com/event
X-ALT-DESC;FMTTYPE=text/html:<!DOCTYPE html><html><head><title></title></head><body aria-disabled="false"><p>On May 12 from 11:00 am - 1:00 pm\, learn how to care for yourself while continuing to care for others.&nbsp\;</p><p>As part of our 75th Anniversary\, Central Coast VNA &amp\; Hospice invites you to a Free meaningful community event designed to support and connect our community of caregivers.&nbsp\;</p><p>﻿This is one of three special events VNA is hosting as part of the milestone celebration.&nbsp\;</p><p>Enjoy complimentary food and beverages\, Raffle prizes and explore resource tables.&nbsp\;</p><p>Learn more\, RSVP at <a fr-original-style="" href="http://www.ccvna.com/event" style="user-select: auto\;">www.ccvna.com/event</a></p></body></html>
LOCATION:Monterey CA 93940
UID:e.2912.1445011
SEQUENCE:3
DTSTAMP:20260420T045427Z
URL:https://business.pacificgrove.org/chamber-events/Details/central-coast-vna-hospice-presents-care-for-the-caregiver-wellness-summit-speaker-series-1711495?sourceTypeId=Hub
END:VEVENT
END:VCALENDAR
