BEGIN:VCALENDAR
VERSION:2.0
PRODID:-//ChamberMaster//Event Calendar 2.0//EN
METHOD:PUBLISH
X-PUBLISHED-TTL:P1H
REFRESH-INTERVAL:P1H
CALSCALE:GREGORIAN
BEGIN:VTIMEZONE
TZID:America/Vancouver
BEGIN:DAYLIGHT
RRULE:FREQ=YEARLY;BYMONTH=3;BYDAY=2SU
DTSTART:20070101T000000
TZOFFSETFROM:-0800
TZOFFSETTO:-0700
TZNAME:Pacific Daylight Time
END:DAYLIGHT
BEGIN:STANDARD
RRULE:FREQ=YEARLY;BYMONTH=11;BYDAY=1SU
DTSTART:20070101T000000
TZOFFSETFROM:-0700
TZOFFSETTO:-0800
TZNAME:Pacific Standard Time
END:STANDARD
END:VTIMEZONE
BEGIN:VEVENT
DTSTART;TZID=America/Vancouver:20260731T180000
DTEND;TZID=America/Vancouver:20260731T210000
X-MICROSOFT-CDO-ALLDAYEVENT:FALSE
SUMMARY:Asilomar Sunset Music Series
DESCRIPTION:Join us at Asilomar every Friday evening from 6:00   9:00 pm for the Sunset Music Series a summer celebration held outside on the Social Hall deck\, featuring live music\, seasonal small bites\, local craft beer & wine\, and s'mores. \nEvent Details: \nWhere: Social Hall West Deck\, Asilomar Conference Grounds\, 800 Asilomar Ave. \nFree & open to the public \nFree parking available on property or neighboring streets \nFood & drinks available for purchase S'more kits for sale \nBring your own chair or use one of ours \nGrab your friends\, get cozy\, and enjoy the perfect summer evenings by the sea! \nFor more information\, call 831-372-8016 or www.visitasilomar.com
X-ALT-DESC;FMTTYPE=text/html:<!DOCTYPE html><html><head><title></title></head><body aria-disabled="false"><p>Join us at Asilomar every Friday evening from 6:00 &ndash\; 9:00 pm for the Sunset Music Series&mdash\;a summer celebration held outside on the Social Hall deck\, featuring live music\, seasonal small bites\, local craft beer &amp\; wine\, and s&rsquo\;mores. <br>Event Details: <br>Where: Social Hall West Deck\, Asilomar Conference Grounds\, 800 Asilomar Ave. <br>Free &amp\; open to the public <br>Free parking available on property or neighboring streets <br>Food &amp\; drinks available for purchase S&rsquo\;more kits for sale <br>Bring your own chair or use one of ours <br>Grab your friends\, get cozy\, and enjoy the perfect summer evenings by the sea! <br>For more information\, call 831-372-8016 or <a fr-original-style="" href="http://www.visitasilomar.com" style="user-select: auto\;">www.visitasilomar.com</a></p></body></html>
LOCATION:800 Asilomar Boulevard Social Hall West Deck Pacific Grove CA 93950
UID:e.2912.1443576
SEQUENCE:3
DTSTAMP:20260420T044809Z
URL:https://business.pacificgrove.org/chamber-events/Details/asilomar-sunset-music-series-1709809?sourceTypeId=Hub
END:VEVENT
END:VCALENDAR
